BEGIN:VCALENDAR
VERSION:2.0
PRODID:-//eventon.com NONSGML v1.0//EN
CALSCALE:GREGORIAN
METHOD:PUBLISH
BEGIN:VEVENT
UID:69e61ba145c8c
DTSTAMP:20260420T122713Z
DTSTART:20251008T210000Z
DTEND:20251008T223000Z
LOCATION:
SUMMARY:See Inside  Radiology at NCH - OPEN HOUSE
DESCRIPTION:Tour Radiology\,  talk with Dr. Rinehouse\,  and get straight a
 nswers about Mammography\,  Ultrasound\,  and MRI. Learn about new equipmen
 t and technologies. Wednesday\,  October 8th 5:00 PM &#8211; 6:30 PM Light 
 Food and Door Prizes\nhttps://northcountryhospital.org/events/see-inside-ra
 diology-at-nch-open-house/
URL:https://northcountryhospital.org/events/see-inside-radiology-at-nch-open-house/
END:VEVENT
END:VCALENDAR